BEGIN:VCALENDAR
VERSION:2.0
PRODID:icalendar-ruby
CALSCALE:GREGORIAN
METHOD:PUBLISH
BEGIN:VEVENT
DTSTAMP:20260421T204243Z
UID:112-984864@grandincourtbaptist.org
DTSTART:20260425T140000Z
DTEND:20260425T170000Z
CLASS:PUBLIC
CREATED:20260421T132330
DESCRIPTION:
LAST-MODIFIED:20260421T132330
LOCATION:Downstairs Youth Room
SUMMARY:Youth Dollar Store Fundraiser
URL;VALUE=URI:https://www.grandincourtbaptist.org/events/youth-dollar-store
 -fundraiser/2026-04-25
ATTACH;FILENAME=4 5 GCBC Youth.png;FMTTYPE=image/png:https://dq5pwpg1q8ru0.
 cloudfront.net/2026/04/21/17/22/59/95d2037c-b5ca-405b-aa0c-45b0d9f85e7c/4%
 205%20GCBC%20Youth.png
END:VEVENT
END:VCALENDAR
