BEGIN:VCALENDAR
VERSION:2.0
PRODID:icalendar-ruby
CALSCALE:GREGORIAN
METHOD:PUBLISH
BEGIN:VEVENT
DTSTAMP:20260423T204328Z
UID:6-994473@grandincourtbaptist.org
DTSTART:20261101T150000Z
DTEND:20261101T160000Z
CLASS:PUBLIC
CREATED:20260423T163707
DESCRIPTION:Worship begins at 10 AM\nIf you are worshipping from home we ar
 e LIVE Sunday mornings on our Facebook page and our YouTube page:\nhttps:/
 /www.youtube.com/@grandincourtbaptistchurch8504/featured
LAST-MODIFIED:20260423T163707
LOCATION:Sanctuary & Online
SUMMARY:Sunday Worship
URL;VALUE=URI:https://www.grandincourtbaptist.org/events/sunday-worship--6/
 2026-11-01
ATTACH;FILENAME=CB209831.jpg;FMTTYPE=image/jpeg:https://dq5pwpg1q8ru0.cloud
 front.net/2023/05/17/08/37/38/c95e7cb6-44b0-475e-9f19-2442b9661a04/CB20983
 1.jpg
END:VEVENT
END:VCALENDAR
