BEGIN:VCALENDAR
VERSION:2.0
PRODID:icalendar-ruby
CALSCALE:GREGORIAN
METHOD:PUBLISH
BEGIN:VEVENT
DTSTAMP:20260421T222315Z
UID:114-984867@grandincourtbaptist.org
DTSTART:20260503T150000Z
DTEND:20260503T153000Z
CLASS:PUBLIC
CREATED:20260421T133037
DESCRIPTION:
LAST-MODIFIED:20260421T133037
LOCATION:Hamner Hall
SUMMARY:Sight & Sound "Joshua" Interest Meetings
URL;VALUE=URI:https://www.grandincourtbaptist.org/events/sight-sound-joshua
 -interest-meetings/2026-05-03
ATTACH;FILENAME=4 12 OWLS Mtg.png;FMTTYPE=image/png:https://dq5pwpg1q8ru0.c
 loudfront.net/2026/04/21/17/30/03/f9b17a8e-f6fd-49e7-b1f9-ca69bee56843/4%2
 012%20OWLS%20Mtg.png
END:VEVENT
END:VCALENDAR
