BEGIN:VCALENDAR
VERSION:2.0
PRODID:icalendar-ruby
CALSCALE:GREGORIAN
METHOD:PUBLISH
BEGIN:VEVENT
DTSTAMP:20260421T204552Z
UID:111-984862@grandincourtbaptist.org
DTSTART:20260426T150000Z
DTEND:20260426T160000Z
CLASS:PUBLIC
CREATED:20260421T132046
DESCRIPTION:
LAST-MODIFIED:20260421T132046
LOCATION:
SUMMARY:Quarterly Business Meeting Potluck
URL;VALUE=URI:https://www.grandincourtbaptist.org/events/quarterly-business
 -meeting-potluck/2026-04-26
ATTACH;FILENAME=4 12 Bus Mtg.png;FMTTYPE=image/png:https://dq5pwpg1q8ru0.cl
 oudfront.net/2026/04/21/17/20/46/3ff27ed2-d7fe-4f51-ace7-ab0f14c61cf8/4%20
 12%20Bus%20Mtg.png
END:VEVENT
END:VCALENDAR
