BEGIN:VCALENDAR
VERSION:2.0
PRODID:icalendar-ruby
CALSCALE:GREGORIAN
METHOD:PUBLISH
BEGIN:VEVENT
DTSTAMP:20260421T204309Z
UID:113-984865@grandincourtbaptist.org
DTSTART:20260423T170000Z
DTEND:20260423T183000Z
CLASS:PUBLIC
CREATED:20260421T132524
DESCRIPTION:
LAST-MODIFIED:20260421T132524
LOCATION:Mama Jean's BBQ
SUMMARY:OWLS Out to Lunch
URL;VALUE=URI:https://www.grandincourtbaptist.org/events/owls-out-to-lunch-
 -113/2026-04-23
ATTACH;FILENAME=4  12 OWLS.png;FMTTYPE=image/png:https://dq5pwpg1q8ru0.clou
 dfront.net/2026/04/21/17/25/24/376af39a-7e41-4eb3-8f8d-88bf34393c60/4%20%2
 012%20OWLS.png
END:VEVENT
END:VCALENDAR
