BEGIN:VCALENDAR
VERSION:2.0
PRODID:icalendar-ruby
CALSCALE:GREGORIAN
METHOD:PUBLISH
BEGIN:VEVENT
DTSTAMP:20260422T225628Z
UID:20-990103@grandincourtbaptist.org
DTSTART:20261025T133000Z
DTEND:20261025T140000Z
CLASS:PUBLIC
CREATED:20260422T163700
DESCRIPTION:
LAST-MODIFIED:20260422T163700
LOCATION:MAC Lobby
SUMMARY:Holy Grounds Coffee Bar
URL;VALUE=URI:https://www.grandincourtbaptist.org/events/holy-grounds-coffe
 e-bar/2026-10-25
ATTACH;FILENAME=Holy-Grounds-%281500-%C3%97-784-px%29.png;FMTTYPE=image/png
 :https://dq5pwpg1q8ru0.cloudfront.net/2023/07/12/05/42/06/a3cf1d17-23cc-4d
 cf-abd0-712cb46a7afe/Holy-Grounds-%25281500-%25C3%2597-784-px%2529.png
END:VEVENT
END:VCALENDAR
